BEGIN:VCALENDAR
VERSION:2.0
PRODID:spatie/icalendar-generator
BEGIN:VTIMEZONE
TZID:Europe/Brussels
BEGIN:STANDARD
DTSTART:20251026T030000
TZOFFSETFROM:+0200
TZOFFSETTO:+0100
END:STANDARD
BEGIN:DAYLIGHT
DTSTART:20260329T010000
TZOFFSETFROM:+0100
TZOFFSETTO:+0200
END:DAYLIGHT
BEGIN:STANDARD
DTSTART:20261025T030000
TZOFFSETFROM:+0200
TZOFFSETTO:+0100
END:STANDARD
END:VTIMEZONE
BEGIN:VTIMEZONE
TZID:UTC
BEGIN:STANDARD
DTSTART:20250724T164147
TZOFFSETFROM:+0000
TZOFFSETTO:+0000
END:STANDARD
END:VTIMEZONE
BEGIN:VEVENT
UID:5171-de-invasie-yko
DTSTAMP:20260420T164147Z
SUMMARY:DE INVASIE: YKO
LOCATION:Jacob Van Arteveldelaan \, 9940 Ertvelde\, Belgium
URL:https://www.n9.be/https://www.n9.be/agenda/5171-de-invasie-yko/
DTSTART;TZID=Europe/Brussels:20260425T190000
DTEND;TZID=Europe/Brussels:20260425T235900
GEO:51.171149999999997;3.7413400000000001
X-APPLE-STRUCTURED-LOCATION;VALUE=URI;X-ADDRESS=Jacob Van Arteveldelaan \, 
 9940 Ertvelde\, Belgium;X-APPLE-RADIUS=72;X-TITLE=Mottekasteel Hoge Wal:ge
 o:51.17115,3.74134
END:VEVENT
END:VCALENDAR