BEGIN:VCALENDAR
VERSION:2.0
PRODID:spatie/icalendar-generator
BEGIN:VTIMEZONE
TZID:Europe/Brussels
BEGIN:DAYLIGHT
DTSTART:20260329T010000
TZOFFSETFROM:+0100
TZOFFSETTO:+0200
END:DAYLIGHT
BEGIN:STANDARD
DTSTART:20261025T030000
TZOFFSETFROM:+0200
TZOFFSETTO:+0100
END:STANDARD
END:VTIMEZONE
BEGIN:VTIMEZONE
TZID:UTC
BEGIN:STANDARD
DTSTART:20250727T114219
TZOFFSETFROM:+0000
TZOFFSETTO:+0000
END:STANDARD
END:VTIMEZONE
BEGIN:VEVENT
UID:5172-herbakkersfestival-finn
DTSTAMP:20260423T114219Z
SUMMARY:HERBAKKERSFESTIVAL: FINN
LOCATION:Scoutspad\, 9900 Eeklo\, Belgium
URL:https://www.n9.be/https://www.n9.be/agenda/5172-herbakkersfestival-finn
 /
DTSTART;TZID=Europe/Brussels:20260809T160000
DTEND;TZID=Europe/Brussels:20260810T020000
GEO:51.184621999999997;3.581445
X-APPLE-STRUCTURED-LOCATION;VALUE=URI;X-ADDRESS=Scoutspad\, 9900 Eeklo\, Be
 lgium;X-APPLE-RADIUS=72;X-TITLE=Herbakkersfestival:geo:51.184622,3.581445
END:VEVENT
END:VCALENDAR